BEGIN:VCALENDAR
VERSION:2.0
PRODID:-//Aufbruch: Bist Du bereit? - ECPv6.15.20//NONSGML v1.0//EN
CALSCALE:GREGORIAN
METHOD:PUBLISH
X-WR-CALNAME:Aufbruch: Bist Du bereit?
X-ORIGINAL-URL:https://www.aufbruch-coaching.de
X-WR-CALDESC:Veranstaltungen für Aufbruch: Bist Du bereit?
REFRESH-INTERVAL;VALUE=DURATION:PT1H
X-Robots-Tag:noindex
X-PUBLISHED-TTL:PT1H
BEGIN:VTIMEZONE
TZID:Europe/Berlin
BEGIN:DAYLIGHT
TZOFFSETFROM:+0100
TZOFFSETTO:+0200
TZNAME:CEST
DTSTART:20240331T010000
END:DAYLIGHT
BEGIN:STANDARD
TZOFFSETFROM:+0200
TZOFFSETTO:+0100
TZNAME:CET
DTSTART:20241027T010000
END:STANDARD
BEGIN:DAYLIGHT
TZOFFSETFROM:+0100
TZOFFSETTO:+0200
TZNAME:CEST
DTSTART:20250330T010000
END:DAYLIGHT
BEGIN:STANDARD
TZOFFSETFROM:+0200
TZOFFSETTO:+0100
TZNAME:CET
DTSTART:20251026T010000
END:STANDARD
BEGIN:DAYLIGHT
TZOFFSETFROM:+0100
TZOFFSETTO:+0200
TZNAME:CEST
DTSTART:20260329T010000
END:DAYLIGHT
BEGIN:STANDARD
TZOFFSETFROM:+0200
TZOFFSETTO:+0100
TZNAME:CET
DTSTART:20261025T010000
END:STANDARD
END:VTIMEZONE
BEGIN:VEVENT
DTSTART;TZID=Europe/Berlin:20250105T000000
DTEND;TZID=Europe/Berlin:20250105T000000
DTSTAMP:20260420T101645
CREATED:20241209T180902Z
LAST-MODIFIED:20241209T204704Z
UID:4985-1736035200-1736035200@www.aufbruch-coaching.de
SUMMARY:Sunday wake up
DESCRIPTION:SUNDAY WAKE UP – STRETCHING\nDer Tanzraum \nUnser Körper wünscht sich behutsam aufgeweckt zu werden\, um mit neuer Energie und gut gelaunt in den Tag zu kommen. Dafür möchte ich Euch ein AUFWACH – STRETCHING anbieten! \nDas Training an der Ballettstange…\nist ein Ganzkörper-Workout an der Ballettstange. Hier werden Techniken aus dem klassischen Ballett mit Kraft-und Dehnübungen kombiniert. \nDieses spezielle Ganzkörpertraining verbrennt Körperfett mit gezieltem Muskelaufbau. Arme\, Beine\, Bauch und Po werden straffer – ein schneller und erfolgreicher Weg\, um den Körper in Richtung definierter Tänzer-Körper zu verändern. \nDurch die Übungen werden eine optimale Stabilität\, Balance und eine neue Wahrnehmung des Körpers erreicht: Der Rücken richtet sich auf\, der ganze Körper modelliert sich neu! \nNeben einem knackigen Po und straffen Bauch verspricht das Barre Konzept Workout vor allem eines: dass die eigene Haltung verbessert wird. \nWer mit einer guten Haltung durchs Leben geht\, ist automatisch selbstbewusster und klagt seltener über Muskelverspannungen oder Rückenschmerzen. \nDas AUFWACH STRETCHING setzt sich zusammen aus: \n\nEinem leichten Stretching\, um den Schlaf raus zu pusten!\nErgänzt mit einem Basistraining an der Ballettstange\, damit du nicht aus dem Gleichgewicht fällst und noch ein wenig träumen kannst.\n\nAUFWACHDAUER und ABLAUF: \n\nAufwachdauer: 1 h\nJeden ERSTEN Sonntag im Monat von 10:30-11:30 Uhr. (Termine im 5er Block\, werden rechtzeitig bekannt gegeben)\nVorkenntnisse sind nicht erforderlich\, einfach mitmachen und aufwachen!\n\nDie  AUFWACH – KARTE kostet: \n\n 5 x  1 h SO – AUFWACHEN 55 €\n10 x 1 h SO – AUFWACHEN 90 €\nDie Karte ist übertragbar\n1 x Aussetzen ohne Verlust der Stunde ist möglich!\n\nBankdaten: MVB DE 04 5519 0000 0566 8720 16 \n\nIch freue mich mit dir beschwingt in den Sonntag zu starten. \nAuf was wartest Du? Deine Zeit ist JETZT.\nIsolde \n 
URL:https://www.aufbruch-coaching.de/workshop/sunday-wake-up_januar/
LOCATION:Tanzraum im Raum Mainz\, Mainz\, Rheinland-Pfalz\, Germany
CATEGORIES:Aufbruch Termine
ATTACH;FMTTYPE=image/jpeg:https://www.aufbruch-coaching.de/wp-content/uploads/AdobeStock_296276604.jpeg
ORGANIZER;CN="Aufbruch-Coacing":MAILTO:hallo@aufbruch-coaching.de
END:VEVENT
BEGIN:VEVENT
DTSTART;TZID=Europe/Berlin:20250107T000000
DTEND;TZID=Europe/Berlin:20250107T000000
DTSTAMP:20260420T101645
CREATED:20231207T131807Z
LAST-MODIFIED:20241209T203522Z
UID:4619-1736208000-1736208000@www.aufbruch-coaching.de
SUMMARY:Barre Workout... JEDEN DIENSTAG
DESCRIPTION:BARRE WORKOUT\n AN DER BALLETTSTANGE\n\nJeden Dienstag von\n09:00 -10:00 Uhr & 18:00 – 19:00 Uhr\nDas Probetraining ist kostenfrei \n\nBarre-Workout steht für intensives Training an der Ballettstange. Hier wird wirklich jeder Körperteil beansprucht und dementsprechend geformt – kein Wunder\, dass Topmodels und Promis das Workout lieben! \nDas Barre Workout…\nist ein Ganzkörper-Workout an der Ballettstange. Hier werden Techniken aus dem klassischen Ballett\, Pilates\, Yoga mit Kraft-und Dehnübungen kombiniert.Dazu gibt es moderne\, mitreißende Musik\, die einfach nur Spaß bringt und die schweißtreibende Stunde etwas leichter macht. \n\nDieses spezielle Ganzkörpertraining verbrennt Körperfett mit gezieltem Muskelaufbau. Arme\, Beine\, Bauch und Po werden straffer – ein schneller und erfolgreicher Weg\, um den Körper zu verändern und zu formen. \nDurch die Übungen werden eine optimale Stabilität\, Balance und eine neue Wahrnehmung des Körpers erreicht: Der Rücken richtet sich auf\, der ganze Körper modelliert sich neu! \nNeben einem knackigen Po und straffen Bauch verspricht das Barre Konzept Workout vor allem eines: dass die eigene Haltung verbessert wird und du dich wieder in deinem Körper wohl fühlst. \nWer mit einer guten Haltung durchs Leben geht\, ist automatisch selbstbewusster und klagt seltener über Muskelverspannungen oder Rückenschmerzen. \n\nMein Tanzraum \nDas TRAINING AN DER BALLETTSTANGE beginnt mit einem: \n\nLeichten Aufwärmen – Stretching\nErgänzt mit dem Training an der Ballettstange für Bauch\, Beine und Po.\n\nDAS WIRD TRAINIERT: \n\nGezielter Muskelaufbau\nDie Haltung wird verbessert\nDu verlierst Gewicht\nDas Workout beansprucht fast alle Muskelgruppen\, trainiert den Bauch\, die Oberschenkel\, die Waden\, den Po und die Arme und schult gleichzeitig auch noch das Taktgefühl und die Koordination…\n\nund es macht bei fetziger Musik ungeheuer viel Spass. \n\nTEILNAHMEGEBÜHR  \nÜber eine 5er  Karte buchbar. Die Tanzkarte ist übertragbar. \n5er Karte: 60 € \nBankdaten: MVB DE 04 5519 0000 0566 8720 16 \n\nAuf was wartest Du? \nDeine Zeit ist JETZT. \n  \nIch liebe die Bewegung und die Freiheit dabei\, in alle Richtungen experimentieren zu können \n  \nMIT GANZ HERZLICHEN GRÜSSEN\,  \nISOLDE \n  \n  \n 
URL:https://www.aufbruch-coaching.de/workshop/barre-workout-jeden-dienstag-2/
LOCATION:Tanzraum_Starballett_Gonsenheim\, An der Ochsenwiese 6\, Mainz - Gonsenheim\, 55124\, Germany
CATEGORIES:Aufbruch Termine
ORGANIZER;CN="Aufbruch-Coacing":MAILTO:hallo@aufbruch-coaching.de
END:VEVENT
BEGIN:VEVENT
DTSTART;TZID=Europe/Berlin:20250112T170000
DTEND;TZID=Europe/Berlin:20250112T193000
DTSTAMP:20260420T101645
CREATED:20241016T113112Z
LAST-MODIFIED:20241226T121724Z
UID:4931-1736701200-1736710200@www.aufbruch-coaching.de
SUMMARY:Jahres Tarot Karte _2025
DESCRIPTION:Nutze deine eigene\n JAHRES- TAROT KARTE\n und komme in Bewegung\n\nDer Zauber\, der im Anfang eines jeden neuen Jahres steckt\, möchte ich nutzen.\nNutzen\, um Altes vergangene zu entlassen und Neues zu begrüßen.\nGespickt mit Wünschen\, Vorhaben und ganz viel positiver Energie soll auch für dich das neue Jahr beginnen. \n\nVieles kann uns inspirieren und kreativ werden lassen um in Bewegung zu kommen. Die Tarot Karten sind zugleich Spiegel und Abbild deiner inneren Welt. Sie geben dir Informationen und Impulse. Die Wahrnehmung der Bedeutung intensiviert sich in der Bewegung und in deinen Gedanken. \nIch lade dich dazu ein\, deine innere Welt mit Hilfe der Karten neu zu erkunden und im Anschluss in der Bewegung nach außen zu tragen. Antworten auf deine Fragen zu finden und das mit viel Kreativität und Freude. \nDurch den kreativen und inspirierenden Einfluss der Karten wirst du mehr Klarheit über deine Wünsche\, offene Fragen und was du noch loslassen solltest\, finden. \nDu schaust nochmal zurück auf das vergangene Jahr und richtest dich bewusst auf das Neue Jahr aus. Du bestimmst was dich weiterhin begleiten soll. \n\n✨✨✨✨✨✨✨✨✨✨✨✨✨✨✨✨✨✨✨✨✨✨✨✨✨✨ \n\nWAS DICH ERWARTET: \n \nENTDECKE NEUE PERSPEKTIVEN FÜR DAS JAHR 2025 MIT TAROT IN KOMBINATION EINER BEWEGUNGSMEDITATION\nWAS DICH ERWARTET: \n✨Du erfährst durch die Karten spirituelle Botschaften welche gerade zu dir finden möchten. \n✨Rückblick auf das vergangene Jahr. \n✨Nutze das Tarot\, um persönliche Ziele und Wachstum für 2025 zu erkunden. \n✨Du hast die Möglichkeit\, dich persönlich weiterzuentwickeln und zu reflektieren. \n✨Du erfährst wie du deine Gedanken positiv in Bewegung zum Ausdruck bringen kannst. \n✨Du wirst mehr über die Bewegungsbasis und Techniken lernen. \n✨Mit deiner eigenen JAHRES TAROT KARTE\, kreierst du einen begleitenden Leitgedanken\, der dich durch deine Bewegungsfolge führt. \n✨ Trance Dance – lass alles los! Die Musik wird dich dabei unterstützen und dich durch die Bewegung tragen. \n  \n\nWELCHE BOTSCHAFTEN HABEN DIE KARTEN FÜR DICH UND GEBEN ANTWORTEN AUF DEINE FRAGEN!\n \n\nGRÜNDE\, WARUM DU AN DIESEM SEMINAR TEILNEHMEN SOLLTEST: \n✨Folge deinem eigenen Impuls und lerne deinen Körper mit seiner Bewegungsvielfalt besser kennen. \n✨Es ermöglicht dir\, auf eine andere Weise\, sich intensiv mit einem deiner Herzensthemen zu befassen und auf den Wegweiser der Tarot Karte näher einzugehen. \n✨Mehr Transparenz. \n✨Entdecke neue Perspektiven für das Jahr 2025 mit Tarot in Kombination einer Bewegungsmeditation & Freiem Tanz (Trance Dance) \n✨Lass das alte Jahr nochmals Revue passieren und richte dich neu aus. Damit du Altlasten von dir streifst\, um für das Neue Platz zu machen. \n\nUnd das alles mit viel Spaß und gaaaanz viel Empathie und Freude \n\n\n\nIch selbst liebe es mit ganz vielen kreativen Hilfsmitteln wie in diesem Fall mit Tarotkarten zu arbeiten. Tarotkarten sind inspirierend und kreativ. Viele Antworten die wir bereits schon kennen werden damit nochmals klarer oder bewusster. Durch die Karten spricht dein Geist\, der dich auf deinem spirituellen Weg stärkt und sicher leitet. \nVielleicht schenkst du dir selbst damit mehr Klarheit\, vielleicht eine neue Ausrichtung oder vielleicht tatsächlich die Antwort\, auf die du schon so lange gewartet hast. \nIch freue mich auf dich und diese gemeinsame Erfahrung! \n\n\n \n\n\n✨Teilnehmer:              \nAb 5 Teilnehmer findet das Event statt \n✨Vorkenntnisse:        \nKeine Vorkenntnisse erforderlich \n✨Was benötigst du:   \nLockere Kleidung\, Socken\, eine warme Decke\, Schreibutensilien \n\n✨✨✨✨✨✨✨✨✨✨✨✨✨✨✨✨✨✨✨✨✨✨✨✨✨✨ \n🎁💐 Mache es zu deinem Geschenk und beginne das Jahr mit mehr Transparenz\, positiven Gedanken und Zuversicht. \nOder schenke es einem Menschen\, der dir sehr am Herzen liegt. \n  \n\n✨Gerne melde Dich jetzt bereits dafür an und sichere Deinen Platz✨\n\n  \nAuf was wartest DU? Deine Zeit ist JETZT. 🦋🦋 \n  \n 
URL:https://www.aufbruch-coaching.de/workshop/jahres-tarot-karte-_2025/
LOCATION:Tanzraum im Raum Mainz\, Mainz\, Rheinland-Pfalz\, Germany
CATEGORIES:Aufbruch Termine
ATTACH;FMTTYPE=image/jpeg:https://www.aufbruch-coaching.de/wp-content/uploads/Tarot-Karte.jpg
ORGANIZER;CN="Aufbruch-Coacing":MAILTO:hallo@aufbruch-coaching.de
END:VEVENT
BEGIN:VEVENT
DTSTART;TZID=Europe/Berlin:20250114T000000
DTEND;TZID=Europe/Berlin:20250114T000000
DTSTAMP:20260420T101645
CREATED:20241209T203032Z
LAST-MODIFIED:20241209T203619Z
UID:4993-1736812800-1736812800@www.aufbruch-coaching.de
SUMMARY:Barre Workout... JEDEN DIENSTAG
DESCRIPTION:BARRE WORKOUT\n AN DER BALLETTSTANGE\n\nJeden Dienstag von\n09:00 -10:00 Uhr & 18:00 – 19:00 Uhr\nDas Probetraining ist kostenfrei \n\nBarre-Workout steht für intensives Training an der Ballettstange. Hier wird wirklich jeder Körperteil beansprucht und dementsprechend geformt – kein Wunder\, dass Topmodels und Promis das Workout lieben! \nDas Barre Workout…\nist ein Ganzkörper-Workout an der Ballettstange. Hier werden Techniken aus dem klassischen Ballett\, Pilates\, Yoga mit Kraft-und Dehnübungen kombiniert.Dazu gibt es moderne\, mitreißende Musik\, die einfach nur Spaß bringt und die schweißtreibende Stunde etwas leichter macht. \n\nDieses spezielle Ganzkörpertraining verbrennt Körperfett mit gezieltem Muskelaufbau. Arme\, Beine\, Bauch und Po werden straffer – ein schneller und erfolgreicher Weg\, um den Körper zu verändern und zu formen. \nDurch die Übungen werden eine optimale Stabilität\, Balance und eine neue Wahrnehmung des Körpers erreicht: Der Rücken richtet sich auf\, der ganze Körper modelliert sich neu! \nNeben einem knackigen Po und straffen Bauch verspricht das Barre Konzept Workout vor allem eines: dass die eigene Haltung verbessert wird und du dich wieder in deinem Körper wohl fühlst. \nWer mit einer guten Haltung durchs Leben geht\, ist automatisch selbstbewusster und klagt seltener über Muskelverspannungen oder Rückenschmerzen. \n\nMein Tanzraum \nDas TRAINING AN DER BALLETTSTANGE beginnt mit einem: \n\nLeichten Aufwärmen – Stretching\nErgänzt mit dem Training an der Ballettstange für Bauch\, Beine und Po.\n\nDAS WIRD TRAINIERT: \n\nGezielter Muskelaufbau\nDie Haltung wird verbessert\nDu verlierst Gewicht\nDas Workout beansprucht fast alle Muskelgruppen\, trainiert den Bauch\, die Oberschenkel\, die Waden\, den Po und die Arme und schult gleichzeitig auch noch das Taktgefühl und die Koordination…\n\nund es macht bei fetziger Musik ungeheuer viel Spass. \n\nTEILNAHMEGEBÜHR  \nÜber eine 5er Karte buchbar. Die Tanzkarte ist übertragbar. \n5er Karte: 60 € \nBankdaten: MVB DE 04 5519 0000 0566 8720 16 \n\nAuf was wartest Du? \nDeine Zeit ist JETZT. \n  \nIch liebe die Bewegung und die Freiheit dabei\, in alle Richtungen experimentieren zu können \n  \nMIT GANZ HERZLICHEN GRÜSSEN\,  \nISOLDE \n  \n  \n 
URL:https://www.aufbruch-coaching.de/workshop/barre-workout-jeden-dienstag-3/
LOCATION:Tanzraum_Starballett_Gonsenheim\, An der Ochsenwiese 6\, Mainz - Gonsenheim\, 55124\, Germany
CATEGORIES:Aufbruch Termine
ORGANIZER;CN="Aufbruch-Coacing":MAILTO:hallo@aufbruch-coaching.de
END:VEVENT
BEGIN:VEVENT
DTSTART;TZID=Europe/Berlin:20250121T000000
DTEND;TZID=Europe/Berlin:20250121T000000
DTSTAMP:20260420T101645
CREATED:20241209T203138Z
LAST-MODIFIED:20241209T203707Z
UID:4995-1737417600-1737417600@www.aufbruch-coaching.de
SUMMARY:Barre Workout... JEDEN DIENSTAG
DESCRIPTION:BARRE WORKOUT\n AN DER BALLETTSTANGE\n\nJeden Dienstag von\n09:00 -10:00 Uhr & 18:00 – 19:00 Uhr\nDas Probetraining ist kostenfrei \n\nBarre-Workout steht für intensives Training an der Ballettstange. Hier wird wirklich jeder Körperteil beansprucht und dementsprechend geformt – kein Wunder\, dass Topmodels und Promis das Workout lieben! \nDas Barre Workout…\nist ein Ganzkörper-Workout an der Ballettstange. Hier werden Techniken aus dem klassischen Ballett\, Pilates\, Yoga mit Kraft-und Dehnübungen kombiniert.Dazu gibt es moderne\, mitreißende Musik\, die einfach nur Spaß bringt und die schweißtreibende Stunde etwas leichter macht. \n\nDieses spezielle Ganzkörpertraining verbrennt Körperfett mit gezieltem Muskelaufbau. Arme\, Beine\, Bauch und Po werden straffer – ein schneller und erfolgreicher Weg\, um den Körper zu verändern und zu formen. \nDurch die Übungen werden eine optimale Stabilität\, Balance und eine neue Wahrnehmung des Körpers erreicht: Der Rücken richtet sich auf\, der ganze Körper modelliert sich neu! \nNeben einem knackigen Po und straffen Bauch verspricht das Barre Konzept Workout vor allem eines: dass die eigene Haltung verbessert wird und du dich wieder in deinem Körper wohl fühlst. \nWer mit einer guten Haltung durchs Leben geht\, ist automatisch selbstbewusster und klagt seltener über Muskelverspannungen oder Rückenschmerzen. \n\nMein Tanzraum \nDas TRAINING AN DER BALLETTSTANGE beginnt mit einem: \n\nLeichten Aufwärmen – Stretching\nErgänzt mit dem Training an der Ballettstange für Bauch\, Beine und Po.\n\nDAS WIRD TRAINIERT: \n\nGezielter Muskelaufbau\nDie Haltung wird verbessert\nDu verlierst Gewicht\nDas Workout beansprucht fast alle Muskelgruppen\, trainiert den Bauch\, die Oberschenkel\, die Waden\, den Po und die Arme und schult gleichzeitig auch noch das Taktgefühl und die Koordination…\n\nund es macht bei fetziger Musik ungeheuer viel Spass. \n\nTEILNAHMEGEBÜHR  \nÜber eine 5er Karte buchbar. Die Tanzkarte ist übertragbar. \n5er Karte: 60 € \nBankdaten: MVB DE 04 5519 0000 0566 8720 16 \n\nAuf was wartest Du? \nDeine Zeit ist JETZT. \n  \nIch liebe die Bewegung und die Freiheit dabei\, in alle Richtungen experimentieren zu können \n  \nMIT GANZ HERZLICHEN GRÜSSEN\,  \nISOLDE \n  \n  \n 
URL:https://www.aufbruch-coaching.de/workshop/barre-workout-jeden-dienstag-4/
LOCATION:Tanzraum_Starballett_Gonsenheim\, An der Ochsenwiese 6\, Mainz - Gonsenheim\, 55124\, Germany
CATEGORIES:Aufbruch Termine
ORGANIZER;CN="Aufbruch-Coacing":MAILTO:hallo@aufbruch-coaching.de
END:VEVENT
BEGIN:VEVENT
DTSTART;TZID=Europe/Berlin:20250126T100000
DTEND;TZID=Europe/Berlin:20250126T140000
DTSTAMP:20260420T101645
CREATED:20231120T091610Z
LAST-MODIFIED:20241114T104410Z
UID:4570-1737885600-1737900000@www.aufbruch-coaching.de
SUMMARY:Movement with Herbs_Energie
DESCRIPTION:MOVEMENT WITH HERBS\nEin Heilcocktail aus Bewegung\,Kräutern & Reiki\nGleich zum Jahresanfang starten wir mit dem ersten Workshop aus einer vierer Reihe\, abgestimmt auf die 4 Jahreszeiten\, mit jeweils 4 verschiedenen Themen. \nUnser erster Workshop befasst sich mit dem Thema ENERGIE!\n\nDieser Workshop soll dich dabei unterstützen mehr in dein Vertrauen zu kommen. \nBlockaden\, die du bis jetzt mit dir getragen hast zu verabschieden\, um wieder in deinen natürlichen Energiefluss zu gelangen. In diese Energie\, die in dir wartet\, frei gesetzt zu werden. \nUND HIER SIND UNSERE ENERGIECOCKTAILS- ZUTATEN!\nErste Cocktailzugabe: HEILKRÄUTER \nWir haben eine Vielzahl von Kräutern\, diese wir nutzen können zur Heilung zu unserem Wohlbefinden. Allein der Duft und die Gewissheit\, dass alles aus der Natur kommt und uns eine Unterstützung sein kann\, sollte Grund genug sein sich mehr damit zu beschäftigen. \nEs ist ein leichtes\, diese großartigen Helfer in unseren Alltag zu integrieren. Sei es in Form von einem Tee\, Salben\, Bäder oder anderen Anwendungsmöglichkeiten. \n \n\nTauche ein in eine Welt des inneren Friedens und der Vitalität\, während du durch sanfte Bewegungen und die Kraft von Kräutern und Energie zu deinem optimalen Wohlbefinden gelangst.\n\nZweite Cocktailzugabe: BEWEGUNG \nBei dieser Bewegungsreise werden eigene Kreativität und Bewegung gefördert! \nIn der Meditation verbindet sich Bewegung mit begleitenden Gedanken\, die tief in das Bewusstsein eindringen. Es ist eine eigens choreografierte Bewegungsfolge und enthält Symbole\, die das Meditationsthema nochmals vertiefen und verstärken. \nDie Bewegungen werden mit einem Leit- und Schlussgedanken begleitet. Damit bekommst du die Möglichkeit\, sich auf deine Gefühle und die Reaktion deines Körpers einzulassen. \nDie Bewegungsmeditation eignet sich ebenso für Menschen\, die mit stillem Sitzen nicht gut zurechtkommen\, doch Ruhe und Ausgeglichenheit suchen\, oder sich Themen widmen möchten\, die sie gerade stark beschäftigen. \nAls therapeutische Anwendung kann sie unterstützen bei angehender Demenz – Erkrankung\, Depressionen\, Konzentrationsschwäche\, Kreativitätsverlust\, Burn-out Symptomen. Sie bietet sich als eine Alternative zu allen anderen Meditationsformen an. \n\nDritte Cocktailzugabe: REIKI \nIst Reiki eine Hexerei! Keineswegs \nReiki ist eine sanfte und doch kraftvolle Energieheilmethode\, die seit Jahrhunderten zur Entspannung\, zum Stressabbau und zur Anregung der natürlichen Heilungsfähigkeit des Körpers eingesetzt wird. Egal\, ob du mit chronischen Schmerzen oder emotionalen Problemen kämpfst oder dich einfach von deinem wahren Selbst getrennt fühlst\, Reiki kann dir helfen\, dich auf allen Ebenen zu harmonisieren. \nIndem es die Selbsterkenntnis fördert und vergangene Traumata auflöst\, kannst du eine verbesserte körperliche Gesundheit\, geistige Klarheit und ein erhöhtes spirituelles Bewusstsein erfahren. \n\nVierte Cocktailzugabe: UNBEKANNT! \nWie bei jedem Cocktail gibt es eine Komponente\, die ein Geheimnis bleibt. Das trifft auch bei unserem Heil + Bewegungsworkshop zu. Lass dich überraschen! \n\nWillkommen auf einer Reise zur Vereinigung von Körper\, Geist und Seele!\n\n \n\nEin Heilcocktail ganz ohne Nebenwirkungen\n\nWAS DICH ERWARTET: \n🌺 Kräuterkunde zum Thema \n🌺 Was sind Ihre Stärken und Wirkungen? \n🌺 Kleine Hexenküche! Wie wendest du die Kräuter richtig an? \n🌺 Wir stellen dir drei Kräutersorten vor\, ihre Heilkräfte und wie du sie in deinem täglichen Leben integrieren kannst. \n🌺 Bewusstes Erden- Körperscanning \n🌺 Eine BWM zum Thema \n🌺 Eine Traumreise – kurze Meditation zum Thema \n🌺 Abklopfen – Eine Klopftechnik \n🌺 Reiki\, um deine Lebensenergie zum Fließen zu bringen \n\n\nES GIBT VIELE GRÜNDE\, WARUM DU AN DIESEM WORKSHOP TEILNEHMEN SOLLTEST!\n\nDu bekommst Kenntnisse aus der Medizin der Heilkräuter\nDu wirst dich danach entspannter fühlen\nDein Blutdruck wird in einem gesunden Bereich sein. Wir machen es messbar!\nDu wirst durch die BWM eine andere Art der Meditation kennen lernen\nMentale Heilung und Entspannung durch Reiki und BWM\nEnergieblockaden dürfen sich lösen\nWir haben für dich ein kleines Kräuter -Geschenk\n\n \nWAS BRAUCHST DU DAZU: \n\n\nEine Decke (falls es kühl wird)\nBequeme Kleidung\nSocken\nWas warmes zum drüber ziehen\nSchreibutensilien\n\n\n \n  \nWAS DU NOCH WISSEN SOLLTEST: \n🌺 Es sind keine Vorkenntnisse nötig. \n🌺 Das Seminar findet ab 5 Teilnehmer statt \n  \n  \n  \n\nDIESEN COCKTAIL MIXT FÜR DICH \nClara & Isolde\nIch bin Isolde! Choreografin\, Bühnencoach\, Tanztrainerin in den Sparten\, Modern & Neoklassisch\, Psych. Syst. Coach\, Dozentin an der Paracelsusschule und leidenschaftliche Skipperin auf Segelyachten. \nIch bin Clara! Ausbildung zur Heilpraktikerin und funktioneller Medizin\, Tauchlehrerin\, Meeresbiologin und Therapeutin für Reiki/Grad 2-3. Ich benutze in meiner Arbeit die Phytotherapie. \n  \n  \n  \n  \n  \n  \n  \n  \n  \n  \n\n\nAuf was wartest DU?\nDeine Zeit ist JETZT.\nMIT GANZ HERZLICHEN GRÜSSEN\, \nCLARA & ISOLDE 
URL:https://www.aufbruch-coaching.de/workshop/movement-with-herbs/
LOCATION:Mainz
CATEGORIES:Aufbruch Termine
ATTACH;FMTTYPE=image/jpeg:https://www.aufbruch-coaching.de/wp-content/uploads/Movement.jpg
ORGANIZER;CN="Isolde Guckelsberger-Penzin":MAILTO:hallo@aufbruch-coaching.de
END:VEVENT
END:VCALENDAR