BEGIN:VCALENDAR
VERSION:2.0
PRODID:-//Aufbruch: Bist Du bereit? - ECPv6.15.20//NONSGML v1.0//EN
CALSCALE:GREGORIAN
METHOD:PUBLISH
X-ORIGINAL-URL:https://www.aufbruch-coaching.de
X-WR-CALDESC:Veranstaltungen für Aufbruch: Bist Du bereit?
REFRESH-INTERVAL;VALUE=DURATION:PT1H
X-Robots-Tag:noindex
X-PUBLISHED-TTL:PT1H
BEGIN:VTIMEZONE
TZID:Europe/Berlin
BEGIN:DAYLIGHT
TZOFFSETFROM:+0100
TZOFFSETTO:+0200
TZNAME:CEST
DTSTART:20200329T010000
END:DAYLIGHT
BEGIN:STANDARD
TZOFFSETFROM:+0200
TZOFFSETTO:+0100
TZNAME:CET
DTSTART:20201025T010000
END:STANDARD
BEGIN:DAYLIGHT
TZOFFSETFROM:+0100
TZOFFSETTO:+0200
TZNAME:CEST
DTSTART:20210328T010000
END:DAYLIGHT
BEGIN:STANDARD
TZOFFSETFROM:+0200
TZOFFSETTO:+0100
TZNAME:CET
DTSTART:20211031T010000
END:STANDARD
BEGIN:DAYLIGHT
TZOFFSETFROM:+0100
TZOFFSETTO:+0200
TZNAME:CEST
DTSTART:20220327T010000
END:DAYLIGHT
BEGIN:STANDARD
TZOFFSETFROM:+0200
TZOFFSETTO:+0100
TZNAME:CET
DTSTART:20221030T010000
END:STANDARD
END:VTIMEZONE
BEGIN:VEVENT
DTSTART;TZID=Europe/Berlin:20210907T190000
DTEND;TZID=Europe/Berlin:20210907T223000
DTSTAMP:20260425T163209
CREATED:20210626T113633Z
LAST-MODIFIED:20210805T092700Z
UID:3622-1631041200-1631053800@www.aufbruch-coaching.de
SUMMARY:Bewegungsmeditation & Cello\, trifft auf Irish Music mit “Paddy Schmidt“
DESCRIPTION:Paddy Schmidt \nDAS HIGHLIGHT IM HERBST IM\nKLOSTER EBERBACH\n„Bewegungsmeditation & Cello\, \ntrifft auf\nIrish Music mit “Paddy Schmidt“\n  \nWir laden Sie dazu ein\, an diesem besonderen und einzigartigen Event in der wunderbaren Atmosphäre des Kapitelsaals im Kloster Eberbach teilzunehmen. \nBewegung und Musik\nBewegungsmeditation & Cello \nZUR BEWEGUNGSMEDITATION & CELLO: \nDie Bewegungsmeditation wird von der Choreografin Isolde Guckelsberger-Penzin begleitet. \nUnter Ihrer Anleitung lernen die Teilnehmer einfache und fließende Bewegungsfolgen kennen\, die durch Wiederholungen vertieft werden. Hierdurch werden Geist und Gedanken frei und dürfen in einer Einheit mit dem Körper fließen. Von der Cellomusik Silvia Schöllers werden wir in unsere eigene Gedankenwelt getragen. Sensibel begleitet Sie uns dabei\, Gedanken\, Musik und Bewegung zu vereinen. \n  \nZUM SITZKISSENKONZERT MIT PADDY: \nPaddy Schmidt\, der Kopf und Sänger der Irish Folk Band „Paddy goes to Holyhead“\, hat sich auf den Podien der Welt einen Platz in der Irish Music erobert. \nEr wird im Anschluss nach der Bewegungsmeditation in einem sehr intimen Solo – Konzert Kostproben aus seinem großen Repertoire dem Publikum näherbringen und damit begeistern. \nVor Überraschungen ist man bei diesem Musiker und Unterhaltungskünstler nie sicher! Daher darf man gespannt sein\, was er noch aus dem Moment heraus zaubert. \n  \nCellistin-Silvia Schöller \nVERANSTALTUNGSZEIT: \nEinlass: 18:45 Uhr \n19:00 Uhr bis 20:30 Uhr – Bewegungsmeditation & Cello \nEinlass: 20:45 Uhr \n21:00 Uhr bis 22:30 Uhr – Sitzkissenkonzert mit Paddy \n  \nTEILNEHMERBEITRAG: \n☘ Bewegungsmeditation & Cello: \n34\,00 €/ pro Person \n☘ Sitzkissenkonzert mit Paddy – Solo: \n20\,00 €/ pro Person \n☘ Paketpreis! \nBewegungsmeditation & Cello plus Sitzkissenkonzert mit Paddy: \n42 €/ pro Person \nAuf was wartest Du? Deine Zeit ist JETZT.\nIsolde \n 
URL:https://www.aufbruch-coaching.de/workshop/bewegungsmeditation-cello-trifft-auf-irish-music/
LOCATION:Kloster Eberbach\, Eltville im Rheingau\, 65346\, Deutschland
CATEGORIES:Aufbruch Termine
ATTACH;FMTTYPE=image/jpeg:https://www.aufbruch-coaching.de/wp-content/uploads/Weiß-Foto-Einzeiler-Reisen-Facebook-Post-2.jpg
END:VEVENT
END:VCALENDAR