BEGIN:VCALENDAR
VERSION:2.0
PRODID:-//Aufbruch: Bist Du bereit? - ECPv6.15.20//NONSGML v1.0//EN
CALSCALE:GREGORIAN
METHOD:PUBLISH
X-WR-CALNAME:Aufbruch: Bist Du bereit?
X-ORIGINAL-URL:https://www.aufbruch-coaching.de
X-WR-CALDESC:Veranstaltungen für Aufbruch: Bist Du bereit?
REFRESH-INTERVAL;VALUE=DURATION:PT1H
X-Robots-Tag:noindex
X-PUBLISHED-TTL:PT1H
BEGIN:VTIMEZONE
TZID:Europe/Berlin
BEGIN:DAYLIGHT
TZOFFSETFROM:+0100
TZOFFSETTO:+0200
TZNAME:CEST
DTSTART:20210328T010000
END:DAYLIGHT
BEGIN:STANDARD
TZOFFSETFROM:+0200
TZOFFSETTO:+0100
TZNAME:CET
DTSTART:20211031T010000
END:STANDARD
BEGIN:DAYLIGHT
TZOFFSETFROM:+0100
TZOFFSETTO:+0200
TZNAME:CEST
DTSTART:20220327T010000
END:DAYLIGHT
BEGIN:STANDARD
TZOFFSETFROM:+0200
TZOFFSETTO:+0100
TZNAME:CET
DTSTART:20221030T010000
END:STANDARD
BEGIN:DAYLIGHT
TZOFFSETFROM:+0100
TZOFFSETTO:+0200
TZNAME:CEST
DTSTART:20230326T010000
END:DAYLIGHT
BEGIN:STANDARD
TZOFFSETFROM:+0200
TZOFFSETTO:+0100
TZNAME:CET
DTSTART:20231029T010000
END:STANDARD
END:VTIMEZONE
BEGIN:VEVENT
DTSTART;VALUE=DATE:20220708
DTEND;VALUE=DATE:20220711
DTSTAMP:20260423T062253
CREATED:20220223T113003Z
LAST-MODIFIED:20220314T125330Z
UID:4012-1657238400-1657497599@www.aufbruch-coaching.de
SUMMARY:SILENCE STILLE RETREAT im Kloster
DESCRIPTION:SILENCE STILLE RETREAT\nBewegung ist der Schlüssel zu einem freien Geist!\nFR\, 08. JULI 2022 – SA 10. JULI 2022\nIM KLOSTER JAKOBSBERG\n\n\nWir sehnen uns nach Stille\, nach Orten die ursprünglich sind und ruhig\, kein Lärm. Wir wollen wieder unsere innere Stimme hören\, ohne dass sie von außen übertönt wird. Wir aber treiben unser Leben immerzu voran und glauben\, dass nur dort\,wo am meisten Trubel und Action herrscht\, das wirkliche Leben stattfindet. Dabei übersehen wir\, dass das Wesentliche in der Stille geschieht. \nWie aber können wir zur Stille in uns selbst zurückfinden und wie gehen wir mit einer Flut von Gedanken und Ängsten um\, die sich dann zu Wort melden? Dieses Event behandelt die Kraft der Sprache und des Körpers in Form vonnonverbaler Kommunikation mit dir und deiner Außenwelt. \nHierbei greifen wir auf Erkenntnisse aus der Psychologie\, der Bewegungsmeditationspraxis und der Musiktherapie zurück. \nViele deiner Erfahrungen\, die du dabei machst\, kannst du in deinem Alltag anwenden. Besonders dann\, wenn du wieder mal vor Entscheidungen stehst oder nach Antworten suchst. \n\n\nDICH ERWARTET\n KREATIVITÄT…ZEIT FÜR DICH…\n\n„Wir befinden uns hier auf dem Dach der Welt“ so hat es Bruder Ignatius genannt\, als er mir dabei zusah wie ich den atemberaubenden Blick vom Kloster Jakobsberg aus bewunderte. \nUnd ich dachte dabei: Wie recht er hat! \nDas Kloster Jakobsberg liegt in der Nähe von Ingelheim ganz oben auf dem Berg und gibt einen herrlichen Blick bis in den Rheingau frei. In diesem Kloster habe ich nicht nur eine wunderschöne Aussicht entdeckt\, sondern dazu noch einen warmen großen Meditationsraum in dem man freie Sicht bis unter den honigbraunen Holzgiebel hat. \nHoch\, groß und frei\, so ein Gefühl machte sich in mir breit\, als ich den Raum betrat. Ich wusste sofort\, hier ist der richtige Ort der mit Bewegung gefüllt werden will. Der Ort\, an dem ich mit Dir die Magie des Klosters erleben möchte. „Auf dem Dach der Welt“. \nIch freue mich sehr\, mit Dir gemeinsam auf eine außergewöhnliche Reise zu gehen. \n\nBEWEGUNGS-MEDITATION…GEMEINSCHAFT…\nRUHE IN DER NATUR…\nHERZTROMMEL\n\n\nDAS SIND DIE THEMEN DIE DICH ERWARTEN: \n\n\n\nBewegung\, ihre Bedeutung und was sie auszudrücken vermag.\nIch stelle dir eine neue Art der Meditation vor und wie du sie umsetzt.\nDu lernst wie du Gefühle in elementaren Bewegungsfolgen zum Ausdruck bringst.\nWarum benötige ich ein Thema und was ist mein Herzensthema?\nDu erhältst kreative Tools\, die dich bei dem Prozess unterstützen werden.\nDu bist der Schöpfer\, du bist der Choreograf deiner Bewegung.\nMit meiner Unterstützung setzt du dein Thema in einfache und fließende Bewegungsfolgen um\, die du durch Wiederholungen vertiefst. Hierdurch werden dein Geist und deine Gedanken frei und können in einer Einheit mit dem Körper fließen.\nWir erarbeiten deinen eigenen Leitgedanken der dich sanft durch die Bewegungsmeditation führt.\n\n\n  \n\nUnd das alles mit gaaaanz viel Empathie und Freude\n  \n \n  \n\nHierbei bedarf es keinerlei tänzerischer Vorkenntnisse!\n							SILENCE STILLE RETREAT- PROGRAMM \n							\n			\n			\n								\n					\n					\n						\n						  \n							\n																	\n									\n								 \n								\n									Programm Freitag:								\n							\n						  \n						\n						\n						  \n							Anreise bis 15 Uhr(Zimmer ab 14 Uhr bezugsfertig) \n16:00 Uhr\nBewegungsmeditation mit sanfter Anleitung in eine neue fließende Bewegungstechnik.\nAnkommen-Austausch-EinführungLASS DICH DABEI VOM RHYTHMUS DER HERZTROMMEL TRAGEN!\n18:30 Uhr\nGemeinsames Abendessen19:30 Uhr \nDu kannst am Abendgebet innerhalb des Klosters teilnehmen\n						  \n						\n					\n					\n					\n								\n					\n					\n						\n						  \n							\n																	\n									\n								 \n								\n									Programm Samstag:								\n							\n						  \n						\n						\n						  \n							6:15 UhrDu kannst am Morgenlob innerhalb des Klosters teilnehmen\n7 Uhr\nHerztrommelmeditation mit Tania\nvon 8 Uhr bis 9 Uhr Frühstück \n10:00 Uhr\nGeführte Bewegungsmeditation zu einem Meditationsthema.\nLASS DICH DABEI VOM RHYTHMUS DER HERZTROMMEL TRAGEN! \n12:30 Uhr Mittagessen und Zeit für Dich in der Natur \n16:30 Uhr \n-Finde dein Herzthema-\nDu erstellst dein eigenes Meditationsthema\n \n17:30 Uhr \n-Schöpfe neue Energie  in der Bewegung-\nKommunikation zwischen dir und deinem Körper\n  18:30 Uhr Gemeinsames Abendessen \n19:30 Uhr \nDu kannst am Abendgebet innerhalb\ndes Klosters teilnehmen						  \n						\n					\n					\n					\n								\n					\n					\n						\n						  \n							\n																	\n									\n								 \n								\n									Programm Sonntag:								\n							\n						  \n						\n						\n						  \n							6:15 Uhr Du kannst am Morgenlob innerhalb des Klosters teilnehmen  \n7 Uhr \n-Herztrommelmeditation mit Tania-\n"Am Anfang war der Herzschlag"  \nvon 8 Uhr bis 9 Uhr Frühstück  \n10:00 Uhr \nBewegungsmeditation mit einem Leitgedanken \nBalance finden – Intensionen setzen-Ausrichtung auf ein Ziel  LASS DICH DABEI VOM RHYTHMUS DER HERZTROMMEL TRAGEN!\nIm Anschluss Gemeinsamer Abschluss:Gehe behutsam Deinen Weg...\nund breite achtsam deine (neuen) Flügel aus.12:30 Uhr\n Mittagessen und Abreise						  \n						\n					\n					\n					\n								\n					\n					\n						\n						  \n							\n																	\n									\n								 \n								\n									Zu Tania an der Herztrommel:								\n							\n						  \n						\n						\n						  \n							Die emphatische Musikerin Tania\, wird mit Ihrem Lieblingsinstrument\, der Trommel unsere Bewegungsmeditation musikalisch und rhythmisch begleiten.\nEs ist eine Besonderheit und ein Genuss sich mit Ihr auf die Mediationsreise zu begeben und in den Rhythmus des „Herztrommelns“ einzutauchen. \n Der Trommelschlag ist mehr als nur Rhythmusgeber. Jeder Impuls mehr als ein Laut. Trommelrhythmen sind die Basis der Musik\, die Dich in die Bewegung einlädt. Die Vibration und der Klang vermitteln Geborgenheit\, Vertrauen\, Ruhe und Kraft sowie eine natürliche Verbindung zur Erde und zum Leben.\nRhythmus\, Klang und Schwingung des Trommelfells zu hören und zu spüren bedeutet in Resonanz zu gehen\, in Bewegung zu kommen und langsam in eine weite Ruhe zu finden.						  \n						\n					\n					\n					\n								\n					\n					\n						\n						  \n							\n																	\n									\n								 \n								\n									Zur Choreografin Isolde:								\n							\n						  \n						\n						\n						  \n							Meine Bühne…  hatte ich schon sehr früh für mich entdeckt und auf meinem weiteren Lebensweg\nnicht mehr losgelassen. Durch die Arbeit mit vielen Tänzern und Künstlern\naus allen Sparten konnte ich meine Kreativität und die Liebe zur Bewegung in\nwelcher Art auch immer\, voll entfalten.   Denn auch in den kleinsten Bewegungen liegt die größte Kraft und hilft auszudrücken was wir nach draußen an die Oberfläche tragen wollen.  Es ist eine wunderbare Reise zu unserem Potenzial. Eine schlechte Kopie eines anderen will keiner sein\, denn das genau hat nichts mit uns zu tun und würde nie widerspiegeln was uns selbst ausmacht.  Es ist mir eine Herzensangelegenheit auch Dich ins Rampenlicht zu holen. Deine Besonderheit mit Dir zu entdecken.  LASS UNS GEMEINSAM AUF DIESE ENTDECKUNGSREISE GEHEN!  AUFBRUCH-BIST DU BEREIT?						  \n						\n					\n					\n					\n								\n					\n					\n						\n						  \n							\n																	\n									\n								 \n								\n									Deine Investitionen:								\n							\n						  \n						\n						\n						  \n							Beitrag SILENCE-STILLE Retreat: \nEUR 189\,- (bei Buchung bis 22.04.2022)\, \ndanach EUR 238\,- \nIch freu mich auf Deine Anmeldung unter: hallo@aufbruch-coaching.de\n Übernachtungspreise für das ganze Wochenende inkl. Vollpension: \nEinzelzimmer: EUR 150\,-  Doppelzimmer zur Einzelnutzung: ab EUR 160\,- \nDoppelzimmer: ab EUR 140\,- pro Person \nBuchung unter: hallo@aufbruch-coaching.de\n \nKostenfreie Stornierung bis 22.04.2022 \nDas Retreat findet ab 6 Personen statt und ist auf 8 Teilnehmer begrenzt\n\n						  \n						\n					\n					\n					\n							\n			\n	 \nWIR FREUEN UNS AUF DICH\n\nWenn Du noch Fragen hast\, melde Dich bei uns!\n\n  \nIch liebe die Bewegung und die Freiheit dabei\, in alle Richtungen experimentieren zu können \nDie Musikerin Tania\, an Ihrem Lieblingsinstrument. \n  \n\n\n\n\n\n\n\nAuf was wartest Du? Deine Zeit ist JETZT. \nIsolde\n  \n 
URL:https://www.aufbruch-coaching.de/workshop/silence-stille-kloster-retreat/
LOCATION:Kloster Jakobsberg\, Kloster Jakobsberg 1\, Ockenheim\, 55437\, Deutschland
CATEGORIES:Aufbruch Termine
ATTACH;FMTTYPE=image/jpeg:https://www.aufbruch-coaching.de/wp-content/uploads/Blanko-e1744646629138.jpg
ORGANIZER;CN="Aufbruch-Coacing":MAILTO:hallo@aufbruch-coaching.de
END:VEVENT
END:VCALENDAR