BEGIN:VCALENDAR
VERSION:2.0
PRODID:-//Aufbruch: Bist Du bereit? - ECPv6.15.20//NONSGML v1.0//EN
CALSCALE:GREGORIAN
METHOD:PUBLISH
X-WR-CALNAME:Aufbruch: Bist Du bereit?
X-ORIGINAL-URL:https://www.aufbruch-coaching.de
X-WR-CALDESC:Veranstaltungen für Aufbruch: Bist Du bereit?
REFRESH-INTERVAL;VALUE=DURATION:PT1H
X-Robots-Tag:noindex
X-PUBLISHED-TTL:PT1H
BEGIN:VTIMEZONE
TZID:Europe/Berlin
BEGIN:DAYLIGHT
TZOFFSETFROM:+0100
TZOFFSETTO:+0200
TZNAME:CEST
DTSTART:20200329T010000
END:DAYLIGHT
BEGIN:STANDARD
TZOFFSETFROM:+0200
TZOFFSETTO:+0100
TZNAME:CET
DTSTART:20201025T010000
END:STANDARD
BEGIN:DAYLIGHT
TZOFFSETFROM:+0100
TZOFFSETTO:+0200
TZNAME:CEST
DTSTART:20210328T010000
END:DAYLIGHT
BEGIN:STANDARD
TZOFFSETFROM:+0200
TZOFFSETTO:+0100
TZNAME:CET
DTSTART:20211031T010000
END:STANDARD
BEGIN:DAYLIGHT
TZOFFSETFROM:+0100
TZOFFSETTO:+0200
TZNAME:CEST
DTSTART:20220327T010000
END:DAYLIGHT
BEGIN:STANDARD
TZOFFSETFROM:+0200
TZOFFSETTO:+0100
TZNAME:CET
DTSTART:20221030T010000
END:STANDARD
END:VTIMEZONE
BEGIN:VEVENT
DTSTART;TZID=Europe/Berlin:20210509T110000
DTEND;TZID=Europe/Berlin:20210509T120000
DTSTAMP:20260424T171517
CREATED:20210409T111032Z
LAST-MODIFIED:20210409T111620Z
UID:3451-1620558000-1620561600@www.aufbruch-coaching.de
SUMMARY:Sunday wake up
DESCRIPTION:SUNDAY WAKE UP STRETCHING \nUnser Körper wünscht sich behutsam aufgeweckt zu werden\, um mit neuer Energie und gut gelaunt in den Tag zu kommen. Dafür möchte ich Dir ein AUFWACH – STRETCHING anbieten!„ \n  \nDas AUFWACH STRETCHING setzt sich zusammen aus: \n\nEinem leichten Stretching\, um den Schlaf raus zu pusten!\nErgänzt mit einem Basistraining an der Ballettstange\, damit du nicht aus dem Gleichgewicht fällst und noch ein wenig träumen kannst.\n\nAUFWACHDAUER und ABLAUF: \n\nAufwachdauer: 1 h\nJeden ZWEITEN und VIERTEN Sonntag im Monat von 11-12 Uhr. (Termine im 5er Block\, werden rechtzeitig bekannt gegeben)\nVorkenntnisse sind nicht erforderlich\, einfach mitmachen und aufwachen!\n\nDie  AUFWACH – KARTE kostet: \n\n5 x  1 h SO – AUFWACHEN 45 €\n10 x 1 h SO – AUFWACHEN 70 €\n\nDein TANZRAUM: \n„Ganz privat aus dem TANZRAUM zu DIR nach Hause“ \nEs ist eine Herausforderung\, aber auch eine Chance mit einem Livestream über Zoom mein Programm weiterhin anzubieten. Alles zur Zeit ist neu und ungewohnt\, doch aber auch eine Möglichkeit weiter in Kontakt zu bleiben und neues ausprobieren zu können\, wo immer du auch bist.  \nIch freue mich mit dir beschwingt in den Sonntag zu starten. \nAuf was wartest Du? Deine Zeit ist JETZT.\nIsolde \n 
URL:https://www.aufbruch-coaching.de/workshop/sunday-wake-up-12/
LOCATION:Virtuell\, Rheinland Pfalz
CATEGORIES:Aufbruch Termine
ATTACH;FMTTYPE=image/jpeg:https://www.aufbruch-coaching.de/wp-content/uploads/AdobeStock_296276604.jpeg
END:VEVENT
END:VCALENDAR