BEGIN:VCALENDAR
VERSION:2.0
PRODID:-//Aufbruch: Bist Du bereit? - ECPv6.15.20//NONSGML v1.0//EN
CALSCALE:GREGORIAN
METHOD:PUBLISH
X-WR-CALNAME:Aufbruch: Bist Du bereit?
X-ORIGINAL-URL:https://www.aufbruch-coaching.de
X-WR-CALDESC:Veranstaltungen für Aufbruch: Bist Du bereit?
REFRESH-INTERVAL;VALUE=DURATION:PT1H
X-Robots-Tag:noindex
X-PUBLISHED-TTL:PT1H
BEGIN:VTIMEZONE
TZID:Europe/Berlin
BEGIN:DAYLIGHT
TZOFFSETFROM:+0100
TZOFFSETTO:+0200
TZNAME:CEST
DTSTART:20210328T010000
END:DAYLIGHT
BEGIN:STANDARD
TZOFFSETFROM:+0200
TZOFFSETTO:+0100
TZNAME:CET
DTSTART:20211031T010000
END:STANDARD
BEGIN:DAYLIGHT
TZOFFSETFROM:+0100
TZOFFSETTO:+0200
TZNAME:CEST
DTSTART:20220327T010000
END:DAYLIGHT
BEGIN:STANDARD
TZOFFSETFROM:+0200
TZOFFSETTO:+0100
TZNAME:CET
DTSTART:20221030T010000
END:STANDARD
BEGIN:DAYLIGHT
TZOFFSETFROM:+0100
TZOFFSETTO:+0200
TZNAME:CEST
DTSTART:20230326T010000
END:DAYLIGHT
BEGIN:STANDARD
TZOFFSETFROM:+0200
TZOFFSETTO:+0100
TZNAME:CET
DTSTART:20231029T010000
END:STANDARD
END:VTIMEZONE
BEGIN:VEVENT
DTSTART;TZID=Europe/Berlin:20220115T160000
DTEND;TZID=Europe/Berlin:20220116T133000
DTSTAMP:20260420T093009
CREATED:20211128T145429Z
LAST-MODIFIED:20220106T160944Z
UID:3829-1642262400-1642339800@www.aufbruch-coaching.de
SUMMARY:Bewegungsmeditation - INTENSIV-Tarot_2
DESCRIPTION:Bewegungsmeditation \n„INTENSIV“\nNutze deine eigene JAHRES- TAROT KARTE und komme in Bewegung\nDer Zauber\, der im Anfang eines jeden neuen Jahres steckt\, möchte ich nutzen.\nNutzen\, um Altes vergangene zu entlassen und Neues zu begrüßen.\nGespickt mit Wünschen\, Vorhaben und ganz viel positiver Energie soll auch für dich das neue Jahr beginnen. \nVieles kann uns inspirieren und kreativ werden lassen um in Bewegung zu kommen. Die Tarot Karten sind zugleich Spiegel und Abbild deiner inneren Welt. Sie geben dir Informationen und Impulse. Die Wahrnehmung der Bedeutung intensiviert sich in der Bewegung. \nIch lade dich dazu ein\, deine innere Welt in der Bewegung nach außen zu tragen. Antworten auf deine Fragen zu finden und das mit viel Kreativität und Freude. \nWAS DICH ERWARTET: \n\nDu erfährst die Vorteile der Bewegungsmeditation und warum Wiederholungen dabei so wichtig sind.\nDu wirst mehr über die Bewegungsbasis und Techniken lernen.\nMit deiner eigenen JAHRES TAROT KARTE\, kreierst du einen begleitenden Leitgedanken\, der dich durch die Bewegungsfolge führt.\nFolge deinem eigenen Impuls und lerne deinen Körper mit seiner Bewegungsvielfalt besser kennen.\nDie Musik wird dich dabei unterstützen und dich durch die Bewegung tragen\n\n  \nGRÜNDE\, WARUM DU AN DIESEM SEMINAR TEILNEHMEN SOLLTEST: \n\nVerspannungen dürfen sich mit Leichtigkeit lösen.\nEs ermöglicht dir\, auf eine andere Weise\, sich intensiv mit einem deiner Herzensthemen zu befassen und auf den Wegweiser der Tarot Karte näher einzugehen.\nEinfach durchatmen und loslassen.\nDein Geist darf sich von Alltagsstress befreien.\nDu nimmst dir Zeit\, um deinen Körper besser kennen zu lernen.\nRuhe finden in der Bewegung wird eine neue Erfahrung für dich sein.\n\nUnd das alles mit viel Spaß und gaaaanz viel Empathie und Freude am Bewegen. 😊\nIm Tanzraum \n\n\n🌿 Termin 1:\nSamstag\, den 08.01.2022 von 16 Uhr bis 18:30 Uhr\nSonntag\, den 09.01.2022 von 11 Uhr bis 13:30 Uhr \n🌿 Termin 2:\nSamstag\, den 15.01.2022 von 16 Uhr bis 18:30 Uhr\nSonntag\, den 16.01.2022 von 11 Uhr bis 13:30 Uhr \n🌿 Teilnehmer: Das Seminar ist sehr intensiv und daher auf 4 Teilnehmer begrenzt. \n💶 Seminarkosten: 69 € (5 Std. über zwei Tage) \n\n\n\n🎁💐 Das Seminar ist ein Geschenk für dich ganz persönlich. Gerne melde Dich jetzt bereits dafür an und sichere Deinen Platz. \n  \nAuf was wartest DU? Deine Zeit ist JETZT. 🦋🦋 \nACHTUNG!  \nDie aktuellen Covid Regeln sind einzuhalten. Sollte das Seminar nicht statt finden können\, erhält jeder Teilnehmer seine bereits bezahlten Seminargebühren zurück.
URL:https://www.aufbruch-coaching.de/workshop/bewegungsmeditation-intensiv-tarot_2/
LOCATION:Tanzraum – Raum Mainz\, Mainz\, DE
CATEGORIES:Aufbruch Termine
ATTACH;FMTTYPE=image/png:https://www.aufbruch-coaching.de/wp-content/uploads/1.png
END:VEVENT
END:VCALENDAR